BEGIN:VCALENDAR
VERSION:2.0
PRODID:danielabillig.de
METHOD:PUBLISH
BEGIN:VTIMEZONE
TZID:Europe/Berlin
X-LIC-LOCATION:Europe/Berlin
BEGIN:DAYLIGHT
TZOFFSETFROM:+0100
TZOFFSETTO:+0200
TZNAME:CEST
DTSTART:19700329T020000
RRULE:FREQ=YEARLY;INTERVAL=1;BYDAY=-1SU;BYMONTH=3
END:DAYLIGHT
BEGIN:STANDARD
TZOFFSETFROM:+0200
TZOFFSETTO:+0100
TZNAME:CET
DTSTART:19701025T030000
RRULE:FREQ=YEARLY;INTERVAL=1;BYDAY=-1SU;BYMONTH=10
END:STANDARD
END:VTIMEZONE
BEGIN:VEVENT
UID:3f8b4e9fdc1786c055bd2d202a6aefdd@danielabillig.de
URL;VALUE=URI:https://danielabillig.de/termine/untersuchungsausschussber-
 ii-27082021/
LOCATION:Abgeordnetenhaus Berlin, Niederkirchnerstraße 5, 10117 Berlin
SUMMARY:Untersuchungsausschuss<br/>BER II
DESCRIPTION;ALTREP="data:text/html,%0A%3Cp%3ESitzungen%20von%20Untersuchu
 ngs%C2%ADaussch%C3%BCssen%20werden%20in%20der%20Regel%20nicht%20live%20ge
 streamt.%20Unterlagen%20zum%20Ausschuss%20gibt%20es%20auf%20%3Ca%20href%3
 D%22https%3A%2F%2Fwww.parlament-berlin.de%2Fde%2FDas-Parlament%2FAusschue
 sse%2F2.-Untersuchungsausschuss-BER-II%22%3Eagh.berlin%3C%2Fa%3E.%3C%2Fp%
 3E%0A":Sitzungen von Untersuchungs­ausschüssen werden in der Regel nich
 t live gestreamt. Unterlagen zum Ausschuss gibt es auf agh.berlin.
CLASS:PUBLIC
DTSTART;TZID=Europe/Berlin:20210827T110000
DTEND;TZID=Europe/Berlin:20210827T180000
DTSTAMP:20260423T174324
END:VEVENT
END:VCALENDAR