BEGIN:VCALENDAR
VERSION:2.0
PRODID:danielabillig.de
METHOD:PUBLISH
BEGIN:VTIMEZONE
TZID:Europe/Berlin
X-LIC-LOCATION:Europe/Berlin
BEGIN:DAYLIGHT
TZOFFSETFROM:+0100
TZOFFSETTO:+0200
TZNAME:CEST
DTSTART:19700329T020000
RRULE:FREQ=YEARLY;INTERVAL=1;BYDAY=-1SU;BYMONTH=3
END:DAYLIGHT
BEGIN:STANDARD
TZOFFSETFROM:+0200
TZOFFSETTO:+0100
TZNAME:CET
DTSTART:19701025T030000
RRULE:FREQ=YEARLY;INTERVAL=1;BYDAY=-1SU;BYMONTH=10
END:STANDARD
END:VTIMEZONE
BEGIN:VEVENT
UID:c3ff6da8ebd82e4de209a4799ff4260f@danielabillig.de
URL;VALUE=URI:https://danielabillig.de/termine/sprechstunde-im-kiezbuero-
 mai-2025/
LOCATION:Grünes Kiezbüro PA22, Prenzlauer Allee 22, Berlin
SUMMARY:Entfällt! Sprechstunde im Kiezbüro
DESCRIPTION;ALTREP="data:text/html,%0A%3Cp%3EDiese%20Sprechstunde%20muss%
 20leider%20entfallen.%20Meine%20n%C3%A4chste%20Sprechstunde%20findet%20am
 %2019.%20Mai%20statt.%20%3C%2Fp%3E%0A%0A%0A%0A%3Cp%3EMeine%20B%C3%BCrger%
 2Ainnensprechstunde%C2%A0vor%20Ort%20im%20Gr%C3%BCnen%20Kiezb%C3%BCro%2C%
 20Prenzlauer%20Allee%2022%2C%2010405%20Berlin.%20Auf%20Wunsch%20kann%20ma
 n%20auch%20per%20Videokonferenz%20oder%20Telefon%20mit%20mir%20sprechen.%
 3C%2Fp%3E%0A%0A%0A%0A%3Cp%3EIch%20freue%20mich%20besonders%20auf%20Fragen
 %20und%20Kommentare%20aus%20meinem%20Bezirk%26nbsp%3B%3Cstrong%3EPankow%3
 C%2Fstrong%3E%26nbsp%3Bund%20meinen%20Fachbereichen%26nbsp%3B%3Cstrong%3E
 Kultur%3C%2Fstrong%3E%2C%20%3Cstrong%3EStadtentwicklung%3C%2Fstrong%3E%20
 und%20%3Cstrong%3EDenkmalschutz%3C%2Fstrong%3E%20%E2%80%93%20und%20nat%C3
 %BCrlich%20auf%20alle%20anderen%20Themen%2C%20die%20euch%20bewegen%21%3C%
 2Fp%3E%0A%0A%0A%0A%3Cp%3EAnmeldung%20f%C3%BCr%20ein%20pers%C3%B6nliches%2
 0Zeitfenster%20bei%20meinem%20Mitarbeiter%20Frank%20Schubert%20unter%20%3
 Ca%20href%3D%22mailto%3Abuero5.billig%40gruene-fraktion.berlin%22%3Ebuero
 5.billig%40gruene-fraktion.berlin%3C%2Fa%3E%20%26nbsp%3B%3C%2Fp%3E%0A%0A%
 0A%0A%3Cp%3E%3C%2Fp%3E%0A":Diese Sprechstunde muss leider entfallen. Mein
 e nächste Sprechstunde findet am 19. Mai statt.\n\nMeine Bürger*innensp
 rechstunde vor Ort im Grünen Kiezbüro\, Prenzlauer Allee 22\, 10405 Be
 rlin. Auf Wunsch kann man auch per Videokonferenz oder Telefon mit mir sp
 rechen.\n\nIch freue mich besonders auf Fragen und Kommentare aus meinem 
 Bezirk Pankow und meinen Fachbereichen Kultur\, Stadtentwicklung und D
 enkmalschutz – und natürlich auf alle anderen Themen\, die euch bewege
 n!\n\nAnmeldung für ein persönliches Zeitfenster bei meinem Mitarbeiter
  Frank Schubert unter buero5.billig@gruene-fraktion.berlin  
CLASS:PUBLIC
DTSTART;TZID=Europe/Berlin:20250505T170000
DTEND;TZID=Europe/Berlin:20250505T190000
DTSTAMP:20260421T115835
END:VEVENT
END:VCALENDAR