BEGIN:VCALENDAR
VERSION:2.0
PRODID:danielabillig.de
METHOD:PUBLISH
BEGIN:VTIMEZONE
TZID:Europe/Berlin
X-LIC-LOCATION:Europe/Berlin
BEGIN:DAYLIGHT
TZOFFSETFROM:+0100
TZOFFSETTO:+0200
TZNAME:CEST
DTSTART:19700329T020000
RRULE:FREQ=YEARLY;INTERVAL=1;BYDAY=-1SU;BYMONTH=3
END:DAYLIGHT
BEGIN:STANDARD
TZOFFSETFROM:+0200
TZOFFSETTO:+0100
TZNAME:CET
DTSTART:19701025T030000
RRULE:FREQ=YEARLY;INTERVAL=1;BYDAY=-1SU;BYMONTH=10
END:STANDARD
END:VTIMEZONE
BEGIN:VEVENT
UID:39bbf8553b34a83d63f2048cba056d35@danielabillig.de
URL;VALUE=URI:https://danielabillig.de/termine/kino-colosseum-kieztreff/
LOCATION:Kiezbüro in der Prenzlauer Allee 22
SUMMARY:Kino Colosseum  – Kieztreff
DESCRIPTION;ALTREP="data:text/html,%0A%3Cp%3EDas%20Colosseum%20ist%20wied
 er%20da%21%20Nach%20drei%20Jahren%20Leerstand%20er%C3%B6ffnet%20hier%20wi
 eder%20ein%20Traditionskino%20von%20Prenzlauer%20Berg.%3C%2Fp%3E%0A%0A%0A
 %0A%3Cp%3EZusammen%20mit%20Daniela%20Billig%20und%20Andreas%20Otto%20%28b
 eide%20MdA%29%20sowie%20Lillemor%20Mallau%2C%20die%20selber%20bei%20der%2
 0Wiederer%C3%B6ffnung%20angepackt%20hat%2C%20m%C3%B6chte%20wir%20%C3%BCbe
 r%20das%20Kino%20Colosseum%20reden.%3C%2Fp%3E%0A%0A%0A%0A%3Cp%3EDer%20Kie
 ztreff%20ist%20offen%20f%C3%BCr%20die%20ganze%20Nachbarschaft%20und%20all
 en%20anderen%20die%20Interesse%20haben.%20Er%20trifft%20sich%20einmal%20i
 m%20Monat%20und%20richtet%20sich%20insbesondere%20an%20die%20Bewohner%2Ai
 nnen%20im%20Kollwitzkiez%2C%20dem%20Winsviertel%20und%20dem%20Ernst-Th%C3
 %A4lmann-Park.%3C%2Fp%3E%0A%0A%0A%0A%3Cp%3ESnacks%20und%20Getr%C3%A4nke%2
 0werden%20bereitgestellt.%20Eine%20Anmeldung%20ist%20nicht%20n%C3%B6tig.%
 3C%2Fp%3E%0A":Das Colosseum ist wieder da! Nach drei Jahren Leerstand er
 öffnet hier wieder ein Traditionskino von Prenzlauer Berg.\n\nZusammen m
 it Daniela Billig und Andreas Otto (beide MdA) sowie Lillemor Mallau\, di
 e selber bei der Wiedereröffnung angepackt hat\, möchte wir über das K
 ino Colosseum reden.\n\nDer Kieztreff ist offen für die ganze Nachbarsch
 aft und allen anderen die Interesse haben. Er trifft sich einmal im Monat
  und richtet sich insbesondere an die Bewohner*innen im Kollwitzkiez\, de
 m Winsviertel und dem Ernst-Thälmann-Park.\n\nSnacks und Getränke werde
 n bereitgestellt. Eine Anmeldung ist nicht nötig.
CLASS:PUBLIC
DTSTART;TZID=Europe/Berlin:20231113T200000
DTEND;TZID=Europe/Berlin:20231113T210000
DTSTAMP:20260420T070319
END:VEVENT
END:VCALENDAR