BEGIN:VCALENDAR
VERSION:2.0
PRODID:danielabillig.de
METHOD:PUBLISH
BEGIN:VTIMEZONE
TZID:Europe/Berlin
X-LIC-LOCATION:Europe/Berlin
BEGIN:DAYLIGHT
TZOFFSETFROM:+0100
TZOFFSETTO:+0200
TZNAME:CEST
DTSTART:19700329T020000
RRULE:FREQ=YEARLY;INTERVAL=1;BYDAY=-1SU;BYMONTH=3
END:DAYLIGHT
BEGIN:STANDARD
TZOFFSETFROM:+0200
TZOFFSETTO:+0100
TZNAME:CET
DTSTART:19701025T030000
RRULE:FREQ=YEARLY;INTERVAL=1;BYDAY=-1SU;BYMONTH=10
END:STANDARD
END:VTIMEZONE
BEGIN:VEVENT
UID:17b998a3910bd7ffcdcf7bb7d3f49d41@danielabillig.de
URL;VALUE=URI:https://danielabillig.de/termine/greenup-cleanup-26april202
 6/
LOCATION:Am Sprudelbrunnen, Thälmannpark, Berlin
SUMMARY:GreenUp! CleanUp!
DESCRIPTION;ALTREP="data:text/html,%0A%3Cp%3EDaniela%20Billig%20und%20die
 %20B%C3%BCndnisgr%C3%BCnen%20Prenzlauer%20Berg%20laden%20ein%3A%20Gemeins
 ame%20M%C3%BCllsammelaktion%20am%20Sprudelbrunnen%20im%20Th%C3%A4lmannpar
 k%3C%2Fp%3E%0A%0A%0A%0A%3Cp%3EGreifzangen%20und%20M%C3%BCllbeutel%20haben
 %20wir%20dabei%2C%20aber%20falls%20ihr%20etwas%20Eigenes%20habt%2C%20brin
 gt%20es%20gerne%20mit.%3C%2Fp%3E%0A%0A%0A%0A%3Cp%3EGerne%20besprechen%20w
 ir%20auch%20Eure%20Themen%20und%20Anliegen%20im%20Kiez%21%3C%2Fp%3E%0A%0A
 %0A%0A%3Cp%3E%3C%2Fp%3E%0A":Daniela Billig und die Bündnisgrünen Prenzl
 auer Berg laden ein: Gemeinsame Müllsammelaktion am Sprudelbrunnen im Th
 älmannpark\n\nGreifzangen und Müllbeutel haben wir dabei\, aber falls i
 hr etwas Eigenes habt\, bringt es gerne mit.\n\nGerne besprechen wir auch
  Eure Themen und Anliegen im Kiez!
CLASS:PUBLIC
DTSTART;TZID=Europe/Berlin:20260426T110000
DTEND;TZID=Europe/Berlin:20260426T123000
DTSTAMP:20260423T150011
END:VEVENT
END:VCALENDAR