BEGIN:VCALENDAR
VERSION:2.0
PRODID:danielabillig.de
METHOD:PUBLISH
BEGIN:VTIMEZONE
TZID:Europe/Berlin
X-LIC-LOCATION:Europe/Berlin
BEGIN:DAYLIGHT
TZOFFSETFROM:+0100
TZOFFSETTO:+0200
TZNAME:CEST
DTSTART:19700329T020000
RRULE:FREQ=YEARLY;INTERVAL=1;BYDAY=-1SU;BYMONTH=3
END:DAYLIGHT
BEGIN:STANDARD
TZOFFSETFROM:+0200
TZOFFSETTO:+0100
TZNAME:CET
DTSTART:19701025T030000
RRULE:FREQ=YEARLY;INTERVAL=1;BYDAY=-1SU;BYMONTH=10
END:STANDARD
END:VTIMEZONE
BEGIN:VEVENT
UID:646c2a31c0a9543b08e70e7127a83973@danielabillig.de
URL;VALUE=URI:https://danielabillig.de/termine/frauenfest-am-kollwitzplat
 z/
LOCATION:Kollwitzplatz
SUMMARY:FrauenFest am Kollwitzplatz
DESCRIPTION;ALTREP="data:text/html,%0A%3Ch2%20class%3D%22wp-block-heading
 %22%3EFrauen%20sind%20l%C3%A4ngst%20gleichgestellt%21%20Stimmt%20das%3F%3
 C%2Fh2%3E%0A%0A%0A%0A%3Cp%3EIn%20den%20letzten%20Jahren%20ist%20viel%20pa
 ssiert%3A%20Frauen%20sind%20sichtbar%21%20Frauen%20streben%20an%20die%20M
 acht%20und%20wollen%20regierende%20B%C3%BCrgermeisterin%20und%20Bundeskan
 zlerin%20werden%21%20Die%20gesellschaftliche%20Sensibilisierung%20f%C3%BC
 r%20Sexismus%20und%20strukturelle%20Benachteiligung%20ist%20gestiegen.%20
 Gendern%20sorgt%20zwar%20f%C3%BCr%20Aufregung%2C%20aber%20wird%20vermutli
 ch%20bald%20die%20neue%20Normalit%C3%A4t%20darstellen.%20Frauen%20wollen%
 20sehr%20selbstverst%C3%A4ndlich%20Mutter%20sein%20und%20ihre%20Karriere%
 20verfolgen.%3C%2Fp%3E%0A%0A%0A%0A%3Cp%3EAber%3A%20vor%20allem%20Frauen%2
 0sind%20im%20Alter%20arm.%20Frauen%20erhalten%20weniger%20Lohn%20als%20M%
 C3%A4nner%2C%20Frauen%20werden%20strukturell%20unterdr%C3%BCckt%2C%20sind
 %20k%C3%B6rperlicher%20und%20psychischer%20Gewalt%20ausgesetzt%20und%20di
 e%20Last%20der%20Care%20Arbeit%20liegt%20prim%C3%A4r%20auf%20den%20Schult
 ern%20der%20Frau.%3C%2Fp%3E%0A%0A%0A%0A%3Cp%3EAuch%20unter%20den%20Frauen
 %20herrscht%20noch%20keine%20Gleichheit%20und%20internalisierte%20Rollenv
 orstellungen%20sind%20ein%20machtvolles%20Hindernis.%3C%2Fp%3E%0A%0A%0A%0
 A%3Cp%3EGemeinsam%20wollen%20wir%20einen%20Zwischenstand%20feiern%2C%20ne
 tzwerken%20und%20uns%20f%C3%BCr%20den%20weiteren%20Weg%20gut%20aufstellen
 %21%3C%2Fp%3E%0A%0A%0A%0A%3Cdiv%20style%3D%22height%3A59px%22%20aria-hidd
 en%3D%22true%22%20class%3D%22wp-block-spacer%22%3E%3C%2Fdiv%3E%0A%0A%0A%0
 A%3Ch2%20class%3D%22wp-block-heading%22%3EFrauenFest%20Programm%3C%2Fh2%3
 E%0A%0A%0A%0A%3Cp%3ESonntag%2012.09.%2015-18%20Uhr%3C%2Fp%3E%0A%0A%0A%0A%
 3Ch3%20class%3D%22wp-block-heading%22%3EI%20Gru%C3%9Fwort%20von%20Ramona%
 20Pop%3C%2Fh3%3E%0A%0A%0A%0A%3Cp%3EB%C3%BCrgermeisterin%20von%20Berlin%20
 und%20Senatorin%20f%C3%BCr%20Wirtschaft%2C%20Energie%20und%20Betriebe%3C%
 2Fp%3E%0A%0A%0A%0A%3Ch3%20class%3D%22wp-block-heading%22%3EIl%20Talkrunde
 %3C%2Fh3%3E%0A%0A%0A%0A%3Cp%3E%3Cspan%20class%3D%22has-inline-color%20has
 -magenta-color%22%3E%3Cstrong%3EDaniela%20Billig%3C%2Fstrong%3E%3C%2Fspan
 %3E%2C%20Mitglied%20im%20Abgeordnetenhaus%20Berlin%2C%20b%C3%BCndnisgr%C3
 %BCne%20Direktkandidatin%20im%20Pankower%20Wahlkreis%208%20und%20Expertin
 %20f%C3%BCr%20feministische%20Perspektiven%20in%20der%20Stadtentwicklung%
 20%28danielabillig.de%29%3C%2Fp%3E%0A%0A%0A%0A%3Cp%3E%3Cstrong%3E%3Cspan%
 20class%3D%22has-inline-color%20has-magenta-color%22%3EMarianne%20Birthle
 r%3C%2Fspan%3E%3C%2Fstrong%3E%2C%20ehem.%20DDR-Oppositionelle%2C%20Mitgli
 ed%20der%20Initiative%20Frieden%20und%20Menschenrechte%2C%20ehem.%20Bunde
 sbeauftragte%20f%C3%BCr%20die%20Stasi-Unterlagen%20%28%3Ca%20href%3D%22ht
 tp%3A%2F%2Fgruenlink.de%2F29wp%22%3Egruenlink.de%2F29wp%3C%2Fa%3E%29%3C%2
 Fp%3E%0A%0A%0A%0A%3Cp%3E%3Cstrong%3E%3Cspan%20class%3D%22has-inline-color
 %20has-magenta-color%22%3EAnne%20Dittmann%3C%2Fspan%3E%3C%2Fstrong%3E%2C%
 20Journalistin%2C%20Autorin%20und%20Lektorin%20%28annedittmann.de%29%3C%2
 Fp%3E%0A%0A%0A%0A%3Cp%3E%3Cstrong%3E%3Cspan%20class%3D%22has-inline-color
 %20has-magenta-color%22%3EGabi%20Zekina%3C%2Fspan%3E%3C%2Fstrong%3E%2C%20
 Gesch%C3%A4ftsleitung%20Frauenkreise%20%2F%20Space2groW%2F%20lila%20offen
 sive%20e.V.%20%28%3Ca%20href%3D%22http%3A%2F%2Ffrauenkreise-berlin.de%22%
 3Efrauenkreise-berlin.de%3C%2Fa%3E%29%3C%2Fp%3E%0A%0A%0A%0A%3Ch3%20class%
 3D%22wp-block-heading%22%3EIII%20Thementische%20%E2%80%93%20Netzwerken%2C
 %20Infos%20%26amp%3B%20Austausch%3C%2Fh3%3E%0A%0A%0A%0A%3Cp%3E%3Cstrong%3
 E%3Cspan%20class%3D%22has-inline-color%20has-magenta-color%22%3EElisabeth
 %20Ragwar%20%26amp%3B%20Shyma%20Kiama%3C%2Fspan%3E%3C%2Fstrong%3E%20von%2
 0Space2groW%20-%20Empowerment%20%2F%20Familienplanung%20und%20Gesundheit%
 20f%C3%BCr%20gefl%C3%BCchtete%20und%20immigrierte%20Frauen%20%28%3Ca%20hr
 ef%3D%22http%3A%2F%2Fspace2grow.de%22%3Espace2grow.de%3C%2Fa%3E%29%3C%2Fp
 %3E%0A%0A%0A%0A%3Cp%3E%3Cstrong%3E%3Cspan%20class%3D%22has-inline-color%2
 0has-magenta-color%22%3EWeiberWirtschaft%20eG%3C%2Fspan%3E%3C%2Fstrong%3E
 %20%26amp%3B%20%3Cspan%20class%3D%22has-inline-color%20has-magenta-color%
 22%3E%3Cstrong%3EGr%C3%BCnderinnenzentrale%3C%2Fstrong%3E%3C%2Fspan%3E%20
 -%20Navigation%20in%20die%20Selbstst%C3%A4ndigkeit%3A%20Unternehmerinnent
 um%20%28%3Ca%20href%3D%22http%3A%2F%2Fweiberwirtschaft.de%22%3Eweiberwirt
 schaft.de%3C%2Fa%3E%20-%20%3Ca%20href%3D%22http%3A%2F%2Fgruenderinnenzent
 rale.de%22%3Egruenderinnenzentrale.de%3C%2Fa%3E%29%3C%2Fp%3E%0A%0A%0A%0A%
 3Cp%3E%3Cstrong%3E%3Cspan%20class%3D%22has-inline-color%20has-magenta-col
 or%22%3EFrauenzentrum%20Paula%20Panke%20e.V.%3C%2Fspan%3E%3C%2Fstrong%3E%
 20-%20Wohnen%2C%20%C3%9Cberlebenskunst%20und%20die%20Kunst%20des%20weibli
 chen%20Alterns%20%28%3Ca%20href%3D%22http%3A%2F%2Fpaula-panke.de%22%3Epau
 la-panke.de%3C%2Fa%3E%29%3C%2Fp%3E%0A%0A%0A%0A%3Cp%3E%3Cstrong%3E%3Cspan%
 20class%3D%22has-inline-color%20has-magenta-color%22%3ESabine%20Ponath%3C
 %2Fspan%3E%3C%2Fstrong%3E%2C%20gr%C3%BCne%20Influencerin%20-%20Frauen%20z
 wischen%20Care%20Arbeit%20und%20Beruf%20Rollenmuster%20aufbrechen%2C%20ab
 er%20wie%3F%20%28%3Ca%20href%3D%22http%3A%2F%2Fmumandstillme.com%22%3Emum
 andstillme.com%3C%2Fa%3E%29%3C%2Fp%3E%0A%0A%0A%0A%3Ch3%20class%3D%22wp-bl
 ock-heading%22%3Emit%20Kuchen%20und%20Kaffee%20%26amp%3B%20Livemusik%20vo
 m%20%3Ca%20href%3D%22https%3A%2F%2Fwww.facebook.com%2Ftoolboxorchestra%22
 %3EToolbox%20Orchestra%3C%2Fa%3E%3C%2Fh3%3E%0A%0A%0A%0A%3Cdiv%20style%3D%
 22height%3A81px%22%20aria-hidden%3D%22true%22%20class%3D%22wp-block-space
 r%22%3E%3C%2Fdiv%3E%0A%0A%0A%0A%3Ch1%20class%3D%22has-text-align-center%2
 0wp-block-heading%22%3EKommt%20vorbei%21%3C%2Fh1%3E%0A":Frauen sind läng
 st gleichgestellt! Stimmt das?\n\nIn den letzten Jahren ist viel passiert
 : Frauen sind sichtbar! Frauen streben an die Macht und wollen regierende
  Bürgermeisterin und Bundeskanzlerin werden! Die gesellschaftliche Sensi
 bilisierung für Sexismus und strukturelle Benachteiligung ist gestiegen.
  Gendern sorgt zwar für Aufregung\, aber wird vermutlich bald die neue N
 ormalität darstellen. Frauen wollen sehr selbstverständlich Mutter sein
  und ihre Karriere verfolgen.\n\nAber: vor allem Frauen sind im Alter arm
 . Frauen erhalten weniger Lohn als Männer\, Frauen werden strukturell un
 terdrückt\, sind körperlicher und psychischer Gewalt ausgesetzt und die
  Last der Care Arbeit liegt primär auf den Schultern der Frau.\n\nAuch u
 nter den Frauen herrscht noch keine Gleichheit und internalisierte Rollen
 vorstellungen sind ein machtvolles Hindernis.\n\nGemeinsam wollen wir ein
 en Zwischenstand feiern\, netzwerken und uns für den weiteren Weg gut au
 fstellen!\n\nFrauenFest Programm\n\nSonntag 12.09. 15-18 Uhr\n\nI Grußwo
 rt von Ramona Pop\n\nBürgermeisterin von Berlin und Senatorin für Wirts
 chaft\, Energie und Betriebe\n\nIl Talkrunde\n\nDaniela Billig\, Mitglied
  im Abgeordnetenhaus Berlin\, bündnisgrüne Direktkandidatin im Pankower
  Wahlkreis 8 und Expertin für feministische Perspektiven in der Stadtent
 wicklung (danielabillig.de)\n\nMarianne Birthler\, ehem. DDR-Oppositionel
 le\, Mitglied der Initiative Frieden und Menschenrechte\, ehem. Bundesbea
 uftragte für die Stasi-Unterlagen (gruenlink.de/29wp)\n\nAnne Dittmann\,
  Journalistin\, Autorin und Lektorin (annedittmann.de)\n\nGabi Zekina\, G
 eschäftsleitung Frauenkreise / Space2groW/ lila offensive e.V. (frauenkr
 eise-berlin.de)\n\nIII Thementische – Netzwerken\, Infos & Austausch\n\
 nElisabeth Ragwar & Shyma Kiama von Space2groW - Empowerment / Familienpl
 anung und Gesundheit für geflüchtete und immigrierte Frauen (space2grow
 .de)\n\nWeiberWirtschaft eG & Gründerinnenzentrale - Navigation in die S
 elbstständigkeit: Unternehmerinnentum (weiberwirtschaft.de - gruenderinn
 enzentrale.de)\n\nFrauenzentrum Paula Panke e.V. - Wohnen\, Überlebensku
 nst und die Kunst des weiblichen Alterns (paula-panke.de)\n\nSabine Ponat
 h\, grüne Influencerin - Frauen zwischen Care Arbeit und Beruf Rollenmus
 ter aufbrechen\, aber wie? (mumandstillme.com)\n\nmit Kuchen und Kaffee &
  Livemusik vom Toolbox Orchestra\n\nKommt vorbei!
CLASS:PUBLIC
DTSTART;TZID=Europe/Berlin:20210912T150000
DTEND;TZID=Europe/Berlin:20210912T180000
DTSTAMP:20260419T142715
END:VEVENT
END:VCALENDAR